BEGIN:VCALENDAR
PRODID:-//kirchenweb.ch gmbh//veranstaltungsausgabe v2.0//DE
VERSION:2.0
METHOD:PUBLISH
BEGIN:VEVENT
DTSTART:20221202T190000Z
DTEND:20221202T220000Z
LOCATION:Kirchgemeindehaus\, Gottstattstrasse 29\, 2552 Orpund
TRANSP:OPAQUE
SEQUENCE:0
UID:3076-veranstaltung@gottstatt.ch
DTSTAMP:20220627T225007Z
DESCRIPTION:Vorbereitung Adventsevent\n\nKontakt: Hans Jürg Schlunegger\n
 \nWeitere Infos: https://www.gottstatt.ch/veranstaltung/3076
SUMMARY:Locus Dei
PRIORITY:5
X-MICROSOFT-CDO-IMPORTANCE:1
CLASS:PUBLIC
END:VEVENT
END:VCALENDAR
