BEGIN:VCALENDAR
PRODID:-//kirchenweb.ch gmbh//veranstaltungsausgabe v2.0//DE
VERSION:2.0
METHOD:PUBLISH
BEGIN:VEVENT
DTSTART:20230106T190000Z
DTEND:20230106T220000Z
LOCATION:Kirchgemeindehaus\, Gottstattstrasse 29\, 2552 Orpund
TRANSP:OPAQUE
SEQUENCE:0
UID:3066-veranstaltung@gottstatt.ch
DTSTAMP:20221108T233813Z
DESCRIPTION:Andacht von Kirchenrat Preiser \nanschliessend  Königskuchen
 \n\nKontakt: Hans Jürg Schlunegger\n\nWeitere Infos:
  https://www.gottstatt.ch/veranstaltung/3066
SUMMARY:Locus Dei
PRIORITY:5
X-MICROSOFT-CDO-IMPORTANCE:1
CLASS:PUBLIC
END:VEVENT
END:VCALENDAR
