BEGIN:VCALENDAR
PRODID:-//kirchenweb.ch gmbh//veranstaltungsausgabe v2.0//DE
VERSION:2.0
METHOD:PUBLISH
BEGIN:VEVENT
DTSTART:20221216T190000Z
DTEND:20221216T220000Z
LOCATION:Kirche\, Gottstattstrasse 29\, 2552 Orpund
TRANSP:OPAQUE
SEQUENCE:0
UID:3061-veranstaltung@gottstatt.ch
DTSTAMP:20221215T202917Z
DESCRIPTION:Weihnachtsfeier Locus Dei\n\n\nKontakt: Hans Jürg Schlunegger
 \n\nWeitere Infos: https://www.gottstatt.ch/veranstaltung/3061
SUMMARY:Weihnacht Locus Dei
PRIORITY:5
X-MICROSOFT-CDO-IMPORTANCE:1
CLASS:PUBLIC
END:VEVENT
END:VCALENDAR
