BEGIN:VCALENDAR
PRODID:-//kirchenweb.ch gmbh//veranstaltungsausgabe v2.0//DE
VERSION:2.0
METHOD:PUBLISH
BEGIN:VEVENT
DTSTART:20221211T150000Z
DTEND:20221211T170000Z
LOCATION:Kirche\, Gottstattstrasse 29\, 2552 Orpund
TRANSP:OPAQUE
SEQUENCE:0
UID:3059-veranstaltung@gottstatt.ch
DTSTAMP:20230206T075845Z
DESCRIPTION:Kontakt: manuela.palma@gottstatt.ch\n\nWeitere Infos:
  https://www.gottstatt.ch/veranstaltung/3059
SUMMARY:Konzert Musikgesellschaft Safnern
PRIORITY:5
X-MICROSOFT-CDO-IMPORTANCE:1
CLASS:PUBLIC
END:VEVENT
END:VCALENDAR
