BEGIN:VCALENDAR
PRODID:-//kirchenweb.ch gmbh//veranstaltungsausgabe v2.0//DE
VERSION:2.0
METHOD:PUBLISH
BEGIN:VEVENT
DTSTART:20221204T150000Z
DTEND:20221204T163000Z
LOCATION:Kirche\, Gottstattstrasse 29\, 2552 Orpund
TRANSP:OPAQUE
SEQUENCE:0
UID:3010-veranstaltung@gottstatt.ch
DTSTAMP:20220517T091714Z
DESCRIPTION:Kontakt: daniela.kuchen@gottstatt.ch\n\nWeitere Infos:
  https://www.gottstatt.ch/veranstaltung/3010
SUMMARY:Konzert Musikgesellschaft Orpund
PRIORITY:5
X-MICROSOFT-CDO-IMPORTANCE:1
CLASS:PUBLIC
END:VEVENT
END:VCALENDAR
