BEGIN:VCALENDAR
PRODID:-//kirchenweb.ch gmbh//veranstaltungsausgabe v2.0//DE
VERSION:2.0
METHOD:PUBLISH
BEGIN:VEVENT
DTSTART:20221228T080000Z
DTEND:20221228T090000Z
LOCATION:Kirchgemeindehaus\, Gottstattstrasse 29\, 2552 Orpund
TRANSP:OPAQUE
SEQUENCE:0
UID:3005-veranstaltung@gottstatt.ch
DTSTAMP:20221201T084816Z
DESCRIPTION:Kontakt: Pfrn. Esther Wiesmann@esther.wiesmann@gottstatt.ch\n
 \nWeitere Infos: https://www.gottstatt.ch/veranstaltung/3005
SUMMARY:Wort\, Stille\, Gesang
PRIORITY:5
X-MICROSOFT-CDO-IMPORTANCE:1
CLASS:PUBLIC
END:VEVENT
END:VCALENDAR
