BEGIN:VCALENDAR
PRODID:-//kirchenweb.ch gmbh//veranstaltungsausgabe v2.0//DE
VERSION:2.0
METHOD:PUBLISH
BEGIN:VEVENT
DTSTART:20230112T133000Z
DTEND:20230112T160000Z
LOCATION:Kirchgemeindehaus\, Gottstattstrasse 29\, 2552 Orpund
TRANSP:OPAQUE
SEQUENCE:0
UID:2957-veranstaltung@gottstatt.ch
DTSTAMP:20221121T135330Z
DESCRIPTION:Spannender und reich bebilderter Vortrag mit Markus Studer und
  seinem Weg vom Herzchirurgen zum Fernfahrer.\n\nKontakt: Pfr. Adrian
  Müller\n\nWeitere Infos: https://www.gottstatt.ch/veranstaltung/2957
SUMMARY:Seniorennachmittag
PRIORITY:5
X-MICROSOFT-CDO-IMPORTANCE:1
CLASS:PUBLIC
END:VEVENT
END:VCALENDAR
