BEGIN:VCALENDAR
PRODID:-//kirchenweb.ch gmbh//veranstaltungsausgabe v2.0//DE
VERSION:2.0
METHOD:PUBLISH
BEGIN:VEVENT
DTSTART:20221208T133000Z
DTEND:20221208T160000Z
LOCATION:Kirchgemeindehaus\, Gottstattstrasse 29\, 2552 Orpund
TRANSP:OPAQUE
SEQUENCE:0
UID:2956-veranstaltung@gottstatt.ch
DTSTAMP:20220602T100434Z
DESCRIPTION:Musikalische Weihnachtsfeier mit der Panflötengruppe Seeland.
 \n\nKontakt: Pfr. Adrian Müller\n\nWeitere Infos:
  https://www.gottstatt.ch/veranstaltung/2956
SUMMARY:Seniorennachmittag
PRIORITY:5
X-MICROSOFT-CDO-IMPORTANCE:1
CLASS:PUBLIC
END:VEVENT
END:VCALENDAR
