BEGIN:VCALENDAR
PRODID:-//kirchenweb.ch gmbh//veranstaltungsausgabe v2.0//DE
VERSION:2.0
METHOD:PUBLISH
BEGIN:VEVENT
DTSTART:20221213T053000Z
DTEND:20221213T063000Z
LOCATION:Kirchgemeindehaus\, Gottstattstrasse 29\, 2552 Orpund
TRANSP:OPAQUE
SEQUENCE:0
UID:2770-veranstaltung@gottstatt.ch
DTSTAMP:20211217T110550Z
DESCRIPTION:Kontakt: daniela.kuchen@gottstatt.ch\n\nWeitere Infos:
  https://www.gottstatt.ch/veranstaltung/2770
SUMMARY:Morgengebet
PRIORITY:5
X-MICROSOFT-CDO-IMPORTANCE:1
CLASS:PUBLIC
END:VEVENT
END:VCALENDAR
