BEGIN:VCALENDAR
PRODID:-//kirchenweb.ch gmbh//veranstaltungsausgabe v2.0//DE
VERSION:2.0
METHOD:PUBLISH
BEGIN:VEVENT
DTSTART:20221206T053000Z
DTEND:20221206T063000Z
LOCATION:Kirchgemeindehaus\, Gottstattstrasse 29\, 2552 Orpund
TRANSP:OPAQUE
SEQUENCE:0
UID:2769-veranstaltung@gottstatt.ch
DTSTAMP:20211217T110549Z
DESCRIPTION:Kontakt: daniela.kuchen@gottstatt.ch\n\nWeitere Infos:
  https://www.gottstatt.ch/veranstaltung/2769
SUMMARY:Morgengebet
PRIORITY:5
X-MICROSOFT-CDO-IMPORTANCE:1
CLASS:PUBLIC
END:VEVENT
END:VCALENDAR
