BEGIN:VCALENDAR
PRODID:-//kirchenweb.ch gmbh//veranstaltungsausgabe v2.0//DE
VERSION:2.0
METHOD:PUBLISH
BEGIN:VEVENT
DTSTART:20221225T083000Z
DTEND:20221225T100000Z
LOCATION:Kirche\, Gottstattstrasse 29\, 2552 Orpund
TRANSP:OPAQUE
SEQUENCE:0
UID:2697-veranstaltung@gottstatt.ch
DTSTAMP:20221222T085044Z
DESCRIPTION:Mit Abendmahl.\nMitwirkung Gemischter Chor Safnern.
 \nAbholdienst\, Martin Toggweiler Telefon 032 355 20 25\n\n\n\nKontakt:
  Pfr. Adrian Müller\n\nWeitere Infos:
  https://www.gottstatt.ch/veranstaltung/2697
SUMMARY:Weihnachtsgottesdienst
PRIORITY:5
X-MICROSOFT-CDO-IMPORTANCE:1
CLASS:PUBLIC
END:VEVENT
END:VCALENDAR
