BEGIN:VCALENDAR
PRODID:-//kirchenweb.ch gmbh//veranstaltungsausgabe v2.0//DE
VERSION:2.0
METHOD:PUBLISH
BEGIN:VEVENT
DTSTART:20221224T153000Z
DTEND:20221224T163000Z
LOCATION:Kirche\, Gottstattstrasse 29\, 2552 Orpund
TRANSP:OPAQUE
SEQUENCE:0
UID:2695-veranstaltung@gottstatt.ch
DTSTAMP:20221215T073935Z
DESCRIPTION:Ökumenische Weihnachtsfeier für Klein und Gross\, Jung und
  Alt\nmit Katechetin Rita Gruber\nAbholdienst\, Maya Anliker Telefon 032
  530 63 39\n\n\nKontakt: Pfarrerin Esther Wiesmann\,
  esther.wiesmann@gottstatt.ch\, 077 422 64 00\n\nWeitere Infos:
  https://www.gottstatt.ch/veranstaltung/2695
SUMMARY:Ökumenische Weihnachtsfeier
PRIORITY:5
X-MICROSOFT-CDO-IMPORTANCE:1
CLASS:PUBLIC
END:VEVENT
END:VCALENDAR
