BEGIN:VCALENDAR
PRODID:-//kirchenweb.ch gmbh//veranstaltungsausgabe v2.0//DE
VERSION:2.0
METHOD:PUBLISH
BEGIN:VEVENT
DTSTART:20221204T083000Z
DTEND:20221204T100000Z
LOCATION:Kirche\, Gottstattstrasse 29\, 2552 Orpund
TRANSP:OPAQUE
SEQUENCE:0
UID:2689-veranstaltung@gottstatt.ch
DTSTAMP:20221117T105959Z
DESCRIPTION:Mit parallelem Kinderprogramm.\nAbholdienst\, Martin
  Toggweiler Telefon 032 355 20 25\n\nKontakt: Pfarrer Adrian Müller\,
  Gottstattstrasse 7\, 2552 Orpund\, adrian.mueller@gottstatt.ch\, 077 499
  26 88\n\nWeitere Infos: https://www.gottstatt.ch/veranstaltung/2689
SUMMARY:Gottesdienst zum zweiten Advent
PRIORITY:5
X-MICROSOFT-CDO-IMPORTANCE:1
CLASS:PUBLIC
END:VEVENT
END:VCALENDAR
