BEGIN:VCALENDAR
PRODID:-//kirchenweb.ch gmbh//veranstaltungsausgabe v2.0//DE
VERSION:2.0
METHOD:PUBLISH
BEGIN:VEVENT
DTSTART:20221127T083000Z
DTEND:20221127T100000Z
LOCATION:Kirche\, Gottstattstrasse 29\, 2552 Orpund
TRANSP:OPAQUE
SEQUENCE:0
UID:2688-veranstaltung@gottstatt.ch
DTSTAMP:20221219T113653Z
DESCRIPTION:Mit Katechetin Yvonne Eigenheer und Mitwirkung der KUW 3.
  Klasse.\nMit parallelem Kinderprogramm.\nAbholdienst\, Maya Anliker
  Telefon 032 530 63 39\n\nKontakt:  Katechetin Yvonne Eigenheer\, Pentaweg
  22\, 2552 Orpund\, yvonne.eigenheer@gottstatt.ch\, 032 355 10 16 \n
 \nWeitere Infos: https://www.gottstatt.ch/veranstaltung/2688
SUMMARY:Gottesdienst zum ersten Advent
PRIORITY:5
X-MICROSOFT-CDO-IMPORTANCE:1
CLASS:PUBLIC
END:VEVENT
END:VCALENDAR
