BEGIN:VCALENDAR
PRODID:-//kirchenweb.ch gmbh//veranstaltungsausgabe v2.0//DE
VERSION:2.0
METHOD:PUBLISH
BEGIN:VEVENT
DTSTART:20221206T110000Z
DTEND:20221206T130000Z
LOCATION:extern\, \,
TRANSP:OPAQUE
SEQUENCE:0
UID:2668-veranstaltung@gottstatt.ch
DTSTAMP:20221128T141159Z
DESCRIPTION:Anmeldung bitte bis spätestens 2 Tage vorher bei den
  Kontaktpersonen oder direkt im Restaurant Tenniszentrum.\n\nKontakt: Frau
  Isabel Burri 032 355 10 18\nFrau Vreni Minder 032 355 11 46\n\n\nWeitere
  Infos: https://www.gottstatt.ch/veranstaltung/2668
SUMMARY:Mittagstisch in Scheuren
PRIORITY:5
X-MICROSOFT-CDO-IMPORTANCE:1
CLASS:PUBLIC
END:VEVENT
END:VCALENDAR
