BEGIN:VCALENDAR
PRODID:-//kirchenweb.ch gmbh//veranstaltungsausgabe v2.0//DE
VERSION:2.0
METHOD:PUBLISH
BEGIN:VEVENT
DTSTART:20221210T183000Z
DTEND:20221210T213000Z
LOCATION:Kirchgemeindehaus\, Gottstattstrasse 29\, 2552 Orpund
TRANSP:OPAQUE
SEQUENCE:0
UID:2656-veranstaltung@gottstatt.ch
DTSTAMP:20230109T082511Z
DESCRIPTION:Kontakt: simon.thallinger@gottstatt.ch\n\nWeitere Infos:
  https://www.gottstatt.ch/veranstaltung/2656
SUMMARY:Splash
PRIORITY:5
X-MICROSOFT-CDO-IMPORTANCE:1
CLASS:PUBLIC
END:VEVENT
END:VCALENDAR
