BEGIN:VCALENDAR
PRODID:-//kirchenweb.ch gmbh//veranstaltungsausgabe v2.0//DE
VERSION:2.0
METHOD:PUBLISH
BEGIN:VEVENT
DTSTART:20221212T183000Z
DTEND:20221212T220000Z
LOCATION:Kirchgemeindehaus\, Gottstattstrasse 29\, 2552 Orpund
TRANSP:OPAQUE
SEQUENCE:0
UID:2582-veranstaltung@gottstatt.ch
DTSTAMP:20211116T112709Z
DESCRIPTION:Kontakt: daniela.kuchen@gottstatt.ch\n\nWeitere Infos:
  https://www.gottstatt.ch/veranstaltung/2582
SUMMARY:Sitzung Kirchgemeinderat
PRIORITY:5
X-MICROSOFT-CDO-IMPORTANCE:1
CLASS:PUBLIC
END:VEVENT
END:VCALENDAR
