BEGIN:VCALENDAR
PRODID:-//kirchenweb.ch gmbh//veranstaltungsausgabe v2.0//DE
VERSION:2.0
METHOD:PUBLISH
BEGIN:VEVENT
DTSTART:20211107T160000Z
DTEND:20211107T170000Z
LOCATION:Kirche (Abschlussfeier)\, Gottstattstrasse 29\, 2552 Orpund
TRANSP:OPAQUE
SEQUENCE:0
UID:2314-veranstaltung@gottstatt.ch
DTSTAMP:20211029T130529Z
DESCRIPTION:Kontakt: Adrian Müller Tel. 032 355 11 49\n\nWeitere Infos:
  https://www.gottstatt.ch/veranstaltung/2314
SUMMARY:Abschlussgottesdienst KUW 6. Klasse
PRIORITY:5
X-MICROSOFT-CDO-IMPORTANCE:1
CLASS:PUBLIC
END:VEVENT
END:VCALENDAR
