BEGIN:VCALENDAR
PRODID:-//kirchenweb.ch gmbh//veranstaltungsausgabe v2.0//DE
VERSION:2.0
METHOD:PUBLISH
BEGIN:VEVENT
DTSTART:20211104T070000Z
DTEND:20211104T104500Z
LOCATION:Kirchgemeindehaus\, Gottstattstrasse 29\, 2552 Orpund
TRANSP:OPAQUE
SEQUENCE:0
UID:2088-veranstaltung@gottstatt.ch
DTSTAMP:20211029T130033Z
DESCRIPTION:Kontakt: manuela.palma@gottstatt.ch\n\nWeitere Infos:
  https://www.gottstatt.ch/veranstaltung/2088
SUMMARY:KUW 6.Klasse
PRIORITY:5
X-MICROSOFT-CDO-IMPORTANCE:1
CLASS:PUBLIC
END:VEVENT
END:VCALENDAR
