BEGIN:VCALENDAR
PRODID:-//kirchenweb.ch gmbh//veranstaltungsausgabe v2.0//DE
VERSION:2.0
METHOD:PUBLISH
BEGIN:VEVENT
DTSTART:20211107T083000Z
DTEND:20211107T100000Z
LOCATION:Kirche\, Gottstattstrasse 29\, 2552 Orpund
TRANSP:OPAQUE
SEQUENCE:0
UID:1716-veranstaltung@gottstatt.ch
DTSTAMP:20211028T051004Z
DESCRIPTION:Mit Abendmahl.\nMit parallelem Kinderprogramm.\nAbholdienst:
  Thomas Eigenheer\, Telefon 032 355 10 16.\n\nKontakt: Pfarrer Adrian
  Müller\, Gottstattstrasse 7\, 2552 Orpund\,
  adrian.mueller@gottstatt.ch\, 077 499 26 88\n\nWeitere Infos:
  https://www.gottstatt.ch/veranstaltung/1716
SUMMARY:Gottesdienst zum Reformationssonntag
PRIORITY:5
X-MICROSOFT-CDO-IMPORTANCE:1
CLASS:PUBLIC
END:VEVENT
END:VCALENDAR
